BEGIN:VCALENDAR
VERSION:2.0
PRODID:-//Eventin//Event Calendar//EN
CALSCALE:GREGORIAN
METHOD:PUBLISH
BEGIN:VEVENT
UID:2d15854005d6ce6f22b893d0893883b5@pqsernerd.com.br
SUMMARY:Gamescom LATAM 2026
DESCRIPTION: \n\nA Gamescom LATAM é uma extensão da renomada feira de jo
 gos alemã\, adaptada para o público latino-americano. Os participantes po
 dem esperar uma variedade de atrações\, incluindo demonstrações de jogo
 s\, painéis com desenvolvedores e oportunidades de networking para profiss
 ionais da indústria.
LOCATION:Av. Olavo Fontoura\, 1209 - Portão 38 - Santana\, São Paulo - SP
 \, 02012-021
DTSTAMP:20260423T150427Z
DTSTART:20260429T130000Z
DTEND:20260504T000000Z
END:VEVENT
END:VCALENDAR
