BEGIN:VCALENDAR
VERSION:2.0
PRODID:-//Eventin//Event Calendar//EN
CALSCALE:GREGORIAN
METHOD:PUBLISH
BEGIN:VEVENT
UID:f7f1ca34f91b98cc1eee1f4e3540e118@pqsernerd.com.br
SUMMARY:Anime Friends 2026
DESCRIPTION:O Anime Friends é reconhecido como o maior evento de cultura p
 op asiática da América Latina\, reunindo fãs de anime\, mangá\, música
  e cosplay. A edição de 2026 ocorrerá de 2 a 5 de julho no Distrito Anhe
 mbi\, em São Paulo. O evento oferece uma variedade de atrações\, incluin
 do shows de artistas nacionais e internacionais\, concursos de cosplay\, pa
 lestras com dubladores e criadores de conteúdo\, além de estandes de prod
 utos temáticos. É uma oportunidade única para os entusiastas da cultura 
 japonesa se conectarem e celebrarem suas paixões. ​
LOCATION:DISTRITO ANHEMBI – SÃO PAULO
DTSTAMP:20260423T150428Z
DTSTART:20260702T130000Z
DTEND:20260705T230000Z
END:VEVENT
END:VCALENDAR
